BEGIN:VCALENDAR
VERSION:2.0
PRODID:-//EKFH - ECPv6.15.20//NONSGML v1.0//EN
CALSCALE:GREGORIAN
METHOD:PUBLISH
X-WR-CALNAME:EKFH
X-ORIGINAL-URL:https://www.ekfh.ca
X-WR-CALDESC:Events for EKFH
REFRESH-INTERVAL;VALUE=DURATION:PT1H
X-Robots-Tag:noindex
X-PUBLISHED-TTL:PT1H
BEGIN:VTIMEZONE
TZID:America/Edmonton
BEGIN:DAYLIGHT
TZOFFSETFROM:-0700
TZOFFSETTO:-0600
TZNAME:MDT
DTSTART:20140309T090000
END:DAYLIGHT
BEGIN:STANDARD
TZOFFSETFROM:-0600
TZOFFSETTO:-0700
TZNAME:MST
DTSTART:20141102T080000
END:STANDARD
BEGIN:DAYLIGHT
TZOFFSETFROM:-0700
TZOFFSETTO:-0600
TZNAME:MDT
DTSTART:20150308T090000
END:DAYLIGHT
BEGIN:STANDARD
TZOFFSETFROM:-0600
TZOFFSETTO:-0700
TZNAME:MST
DTSTART:20151101T080000
END:STANDARD
BEGIN:DAYLIGHT
TZOFFSETFROM:-0700
TZOFFSETTO:-0600
TZNAME:MDT
DTSTART:20160313T090000
END:DAYLIGHT
BEGIN:STANDARD
TZOFFSETFROM:-0600
TZOFFSETTO:-0700
TZNAME:MST
DTSTART:20161106T080000
END:STANDARD
BEGIN:DAYLIGHT
TZOFFSETFROM:-0700
TZOFFSETTO:-0600
TZNAME:MDT
DTSTART:20170312T090000
END:DAYLIGHT
BEGIN:STANDARD
TZOFFSETFROM:-0600
TZOFFSETTO:-0700
TZNAME:MST
DTSTART:20171105T080000
END:STANDARD
END:VTIMEZONE
BEGIN:VEVENT
DTSTART;VALUE=DATE:20151127
DTEND;VALUE=DATE:20160301
DTSTAMP:20260422T165325
CREATED:20151203T210746Z
LAST-MODIFIED:20190516T193749Z
UID:5188-1448582400-1456790399@www.ekfh.ca
SUMMARY:8th Annual EKFH Starlite Campaign
DESCRIPTION:Cranbrook\, BC…  On November 27 the roofline atop the East Kootenay Regional Hospital will welcome the annual lighting of stars as part of the 8th annual Starlite Campaign.   The Starlite Campaign is the signature holiday event of East Kootenay Foundation for Health. \nDonna Grainger\, Executive Director for EKFH reports that the pre-holiday fundraising drive is having a remarkable impact already with a record breaking start of $54\,526 in donations. \nThese donations are  lighting seven large stars:  (1) Billie’s Star (Eagles Nest RV Resort)\, (2) Eagles Nest RV Resort & Key City Old-Timers\, (3) Anonymous Donation\, (4 & 5) Margaret Delmont in memory of Ed Delamont\, (6) Elk Valley Thrift Shop and (7) The Madsen Family in memory of Gerhardt Madsen; and seven small stars:  (1 & 2) Anonymous donations\, (3) Kimberley Dynamiters\, (4\, 5\, 6 & 7) accumulated public donations to kick off the campaign. \nThis year’s campaign is raising funds for regional and community health programs with a  fundraising goal to raise $150\,000 to light 17 large stars ($5\,000 per star) and 24 small stars ($2\,500 per star).  These programs are dedicated to helping those with arthritis\, diabetes\, heart disease\, respiratory needs\, and more or for those that may require help with chronic disease management\, home nursing\, in-home oxygen\,  wound\,  senior\, pediatric  and self-care programs.  More often than not these programs have smaller equipment needs.  However the impact those pieces of equipment and patient education tools can deliver through these programs can often help people who wouldn’t have had anywhere else to turn to for assistance. \nWe all know life can change in an instant; it is comforting to know that donations made to EKFH will have a direct impact on the care available right here at home.Your donation plays a crucial role in EKFH’s mission to provide funding for the East Kootenay Regional Hospital and other community facilities in complementing the health care needs of the region. \nMaking a donation and spreading the word about our activities and the work we do will go a long way towards making a difference for your health\, your family\, your our friends\, your hospital and the health care facilities in your community.  To make a gift to the Starlite Campaign visit www.ekfh.ca.
URL:https://www.ekfh.ca/event/8th-annual-ekfh-starlite-campaign/
LOCATION:British Columbia
ORGANIZER;CN="East Kootenay Foundation for Health":MAILTO:brenna.baker@interiorhealth.ca
END:VEVENT
BEGIN:VEVENT
DTSTART;TZID=America/Edmonton:20151114T093000
DTEND;TZID=America/Edmonton:20151114T113000
DTSTAMP:20260422T165325
CREATED:20150918T162954Z
LAST-MODIFIED:20190516T193750Z
UID:5054-1447493400-1447500600@www.ekfh.ca
SUMMARY:Go Blue for Breakfast!
DESCRIPTION:ABOUT WORLD DIABETES DAY \nWorld Diabetes Day (WDD) is celebrated every year on November 14. The World Diabetes Day campaign is led by the International Diabetes Federation (IDF) and its member associations. It engages millions of people worldwide in diabetes advocacy and awareness. World Diabetes Day was created in 1991 by the International Diabetes Federation and the World Health Organization in response to growing concerns about the escalating health threat that diabetes now poses. World Diabetes Day became an official United Nations Day in 2007 with the passage of United Nation Resolution 61/225. The campaign draws attention to issues of paramount importance to the diabetes world and keeps diabetes firmly in the public spotlight. \nWorld Diabetes Day is a campaign that features a new theme chosen by the International Diabetes Federation each year to address issues facing the global diabetes community. While the themed campaigns last the whole year\, the day itself is celebrated on November 14\, to mark the birthday of Frederick Banting who\, along with Charles Best\, first conceived the idea which led to the discovery of insulin in 1921. \n  \nHealthy Living and Diabetes is the World Diabetes Day theme for 2014-2016.
URL:https://www.ekfh.ca/event/go-blue-for-breakfast/
LOCATION:Heritage Inn\, 803 Cranbrook St N\, Cranbrook\, BC\, V1C 3S2\, Canada
ORGANIZER;CN="East Kootenay Foundation for Health":MAILTO:brenna.baker@interiorhealth.ca
END:VEVENT
BEGIN:VEVENT
DTSTART;TZID=America/Edmonton:20151003T173000
DTEND;TZID=America/Edmonton:20151003T230000
DTSTAMP:20260422T165325
CREATED:20150901T203316Z
LAST-MODIFIED:20190516T193751Z
UID:4996-1443893400-1443913200@www.ekfh.ca
SUMMARY:Yahk Carefest
DESCRIPTION:
URL:https://www.ekfh.ca/event/yahk-carefest/
LOCATION:Yahk Kingsgate Community Hall\, 8790 Railway Avenue\, Yahk\, BC\, Canada
ORGANIZER;CN="Yahk Kingsgate Recreation Society":MAILTO:ykrsboard@gmail.com
END:VEVENT
BEGIN:VEVENT
DTSTART;TZID=America/Edmonton:20150925T070000
DTEND;TZID=America/Edmonton:20150925T210000
DTSTAMP:20260422T165325
CREATED:20150825T221809Z
LAST-MODIFIED:20190516T193751Z
UID:4986-1443164400-1443214800@www.ekfh.ca
SUMMARY:Aggie's Fall Fling
DESCRIPTION:
URL:https://www.ekfh.ca/event/aggies-fall-fling/
LOCATION:Heritage Inn\, 803 Cranbrook St N\, Cranbrook\, BC\, V1C 3S2\, Canada
ORGANIZER;CN="Kevin Dunk":MAILTO:aggiesfallfling@shaw.ca
END:VEVENT
BEGIN:VEVENT
DTSTART;VALUE=DATE:20150925
DTEND;VALUE=DATE:20150926
DTSTAMP:20260422T165325
CREATED:20150918T162012Z
LAST-MODIFIED:20190516T193750Z
UID:5049-1443139200-1443225599@www.ekfh.ca
SUMMARY:2nd Annual NAPA Golf Get Together John Dixon Memorial
DESCRIPTION:Managers from NAPA Auto Parts dealerships in Southern Alberta and B.C. will gather at the St. Eugene Mission Resort for its inaugural John Dixon Memorial Golf Tournament. The group\, joined by family and friends\, will join together to golf\, laugh and share memories of a man who gave much to his community through his affiliation with the NAPA organization.
URL:https://www.ekfh.ca/event/2nd-annual-napa-golf-get-together-john-dixon-memorial/
LOCATION:British Columbia
END:VEVENT
BEGIN:VEVENT
DTSTART;TZID=America/Edmonton:20150919T100000
DTEND;TZID=America/Edmonton:20150919T150000
DTSTAMP:20260422T165325
CREATED:20150901T210056Z
LAST-MODIFIED:20190516T193751Z
UID:5001-1442656800-1442674800@www.ekfh.ca
SUMMARY:Denham Ford Drive One for Your Community
DESCRIPTION:
URL:https://www.ekfh.ca/event/denham-ford-drive-one-for-your-community/
LOCATION:Denham Ford\, 2417 Cranbrook St N\, Cranbrook\, BC\, V1C 3T3\, Canada
ORGANIZER;CN="Denham Ford and EKFH":MAILTO:patricia.whalen@interiorhealth.ca
END:VEVENT
END:VCALENDAR